View In:
ArcGIS JavaScript
ArcGIS Online Map Viewer
ArcGIS Earth
ArcGIS Pro
Service Description: Distribución espacial de las líneas imaginarias que unen puntos de igual elevación con respecto al nivel del mar para el área urbana y rural de Bogotá D.C.
Map Name: Curva de Nivel
Legend
All Layers and Tables
Dynamic Legend
Dynamic All Layers
Layers:
Description: Distribución espacial de las líneas imaginarias que unen puntos de igual elevación con respecto al nivel del mar para el área urbana y rural de Bogotá D.C.
Service Item Id: ce9f962f87074579857be6d866e4f1b8
Copyright Text: IDECA - Unidad Administrativa Especial de Catastro Distrital UAECD
Spatial Reference:
102100
(3857)
LatestVCSWkid(0)
Single Fused Map Cache: true
Tile Info:
- Height: 256.0
- Width: 256.0
- DPI: 96.0
-
Levels of Detail: 24
-
Level ID: 0
[ Start Tile, End Tile ]
- Resolution: 156543.03392800014
- Scale: 5.91657527591555E8
-
Level ID: 1
[ Start Tile, End Tile ]
- Resolution: 78271.51696399994
- Scale: 2.95828763795777E8
-
Level ID: 2
[ Start Tile, End Tile ]
- Resolution: 39135.75848200009
- Scale: 1.47914381897889E8
-
Level ID: 3
[ Start Tile, End Tile ]
- Resolution: 19567.87924099992
- Scale: 7.3957190948944E7
-
Level ID: 4
[ Start Tile, End Tile ]
- Resolution: 9783.93962049996
- Scale: 3.6978595474472E7
-
Level ID: 5
[ Start Tile, End Tile ]
- Resolution: 4891.96981024998
- Scale: 1.8489297737236E7
- Format: PNG
- Compression Quality: 0.0
- Origin: X: -2.0037508342787E7
Y: 2.0037508342787E7
- Spatial Reference: 102100
(3857)
LatestVCSWkid(0)
Storage Info:
- Storage Format: esriMapCacheStorageModeCompactV2
- Packet Size: 128
Initial Extent:
XMin: -8245504.043989987
YMin: 519586.39248525095
XMax: -8244570.5926348595
YMax: 520252.34406930587
Spatial Reference: 102100
(3857)
LatestVCSWkid(0)
Full Extent:
XMin: -8288339.85386067
YMin: 414452.8585623923
XMax: -8236113.89441261
YMax: 539087.3909006768
Spatial Reference: 102100
(3857)
LatestVCSWkid(0)
Units: esriMeters
Supported Image Format Types: PNG32,PNG24,PNG,JPG,DIB,TIFF,EMF,PS,PDF,GIF,SVG,SVGZ,BMP
Document Info:
Title: Curva de Nivel
Author:
Comments: Distribución espacial de las líneas imaginarias que unen puntos de igual elevación con respecto al nivel del mar para el área urbana y rural de Bogotá D.C.
Subject: Curva de Nivel
Category:
Keywords: Relieve
AntialiasingMode: None
TextAntialiasingMode: Force
Supports Dynamic Layers: true
Resampling: false
MaxRecordCount: 2000
MaxImageHeight: 4096
MaxImageWidth: 4096
Supported Query Formats: JSON, geoJSON, PBF
Supports Query Data Elements: true
Min Scale: 18055.954822
Max Scale: 564.248588
Supports Datum Transformation: true
Child Resources:
Info
Dynamic Layer
Supported Operations:
Export Map
Identify
QueryLegends
QueryDomains
Find
Return Updates