View In:
ArcGIS JavaScript
ArcGIS Online Map Viewer
ArcGIS Earth
ArcGIS Pro
Service Description: Este producto contiene un mosaico raster ortorectificado de la zona rural de Bogotá cubriendo parte de las localidades de Usme, Ciudad Bolívar y Sumapaz, correspondientes a 103.000 hectáreas aproximadamente. Cuenta con 4 bandas del espectro electromagnético: (rojo, verde, azul e infrarrojo cercano).
Map Name: Ortho Bogotá Rural 2020
Legend
All Layers and Tables
Dynamic Legend
Dynamic All Layers
Layers:
Description: Este producto contiene un mosaico raster ortorectificado de la zona rural de Bogotá cubriendo parte de las localidades de Usme, Ciudad Bolívar y Sumapaz, correspondientes a 103.000 hectáreas aproximadamente. Cuenta con 4 bandas del espectro electromagnético: (rojo, verde, azul e infrarrojo cercano).
Service Item Id: a11325b28ba34c17aa7b71d2dc4efac0
Copyright Text: Alcaldia Mayor de Bogotá D.C., Secretaria Distrital de Hacienda - SHD, Unidad Administrativa Especial de Catastro Distrital - UAECD.
Spatial Reference:
102100
(3857)
Single Fused Map Cache: true
Tile Info:
- Height: 256
- Width: 256
- DPI: 96
-
Levels of Detail: 24
-
Level ID: 0
[ Start Tile, End Tile ]
- Resolution: 156543.03392800014
- Scale: 5.91657527591555E8
-
Level ID: 1
[ Start Tile, End Tile ]
- Resolution: 78271.51696399994
- Scale: 2.95828763795777E8
-
Level ID: 2
[ Start Tile, End Tile ]
- Resolution: 39135.75848200009
- Scale: 1.47914381897889E8
-
Level ID: 3
[ Start Tile, End Tile ]
- Resolution: 19567.87924099992
- Scale: 7.3957190948944E7
-
Level ID: 4
[ Start Tile, End Tile ]
- Resolution: 9783.93962049996
- Scale: 3.6978595474472E7
-
Level ID: 5
[ Start Tile, End Tile ]
- Resolution: 4891.96981024998
- Scale: 1.8489297737236E7
- Format: MIXED
- Compression Quality: 75.0
- Origin: X: -2.0037508342787E7
Y: 2.0037508342787E7
- Spatial Reference: 102100
(3857)
Storage Info:
- Storage Format: esriMapCacheStorageModeCompactV2
- Packet Size: 128
Initial Extent:
XMin: -8313045.989497756
YMin: 428819.78994783026
XMax: -8229728.73283109
YMax: 488063.8228644966
Spatial Reference: 102100
Full Extent:
XMin: -8288497.743181088
YMin: 414659.2709561636
XMax: -8246805.743181088
YMax: 496610.67095616314
Spatial Reference: 102100
Units: esriMeters
Supported Image Format Types: PNG32,PNG24,PNG,JPG,DIB,TIFF,EMF,PS,PDF,GIF,SVG,SVGZ,BMP
Document Info:
Title: Ortho Bogotá Rural 2020
Author:
Comments: Este producto contiene un mosaico raster ortorectificado de la zona rural de Bogotá cubriendo parte de las localidades de Usme, Ciudad Bolívar y Sumapaz, correspondientes a 103.000 hectáreas aproximadamente. Cuenta con 4 bandas del espectro electromagnético: (rojo, verde, azul e infrarrojo cercano).
Subject: Ortoimagen digital que comprende un mosaico ráster ortorrectificado con cubrimiento de la zona rural del Distrito Capital de Bogotá para el año 2020.
Category:
Keywords: Ortofoto
AntialiasingMode: None
TextAntialiasingMode: Force
Supports Dynamic Layers: true
Resampling: false
MaxRecordCount: 2000
MaxImageHeight: 4096
MaxImageWidth: 4096
Supported Query Formats: JSON, geoJSON, PBF
Supports Query Data Elements: true
Min Scale: 577790.554289
Max Scale: 4513.988705
Supports Datum Transformation: true
Child Resources:
Info
Dynamic Layer
Supported Operations:
Export Map
Identify
QueryLegends
QueryDomains
Find
Return Updates