View In:
ArcGIS JavaScript
ArcGIS Online Map Viewer
ArcGIS Earth
ArcGIS Pro
Service Description: Imagen satelital WorldView-2 que comprende un mosaico ráster del Distrito Capital de Bogotá. El producto fue generado a partir de imágenes satelitales capturadas en el año 2015. Cuenta con una resolución espacial (GSD) de 50cm; resolución radiométrica de 16 bits y resolución espectral de 3 bandas (rojo, verde y azul).
Map Name: WorldView-2 Bogotá 2015
Legend
All Layers and Tables
Dynamic Legend
Dynamic All Layers
Layers:
Description: Imagen satelital WorldView-2 que comprende un mosaico ráster del Distrito Capital de Bogotá. El producto fue generado a partir de imágenes satelitales capturadas en el año 2015. Cuenta con una resolución espacial (GSD) de 50cm; resolución radiométrica de 16 bits y resolución espectral de 3 bandas (rojo, verde y azul).
Service Item Id: bc7646ef063f473fb85afba65dd02138
Copyright Text: Empresa de Acueducto y Alcantarillado de Bogotá ESP - EAAB
Spatial Reference:
102100
(3857)
Single Fused Map Cache: true
Tile Info:
- Height: 256
- Width: 256
- DPI: 96
-
Levels of Detail: 21
-
Level ID: 0
[ Start Tile, End Tile ]
- Resolution: 156543.03392800014
- Scale: 5.91657527591555E8
-
Level ID: 1
[ Start Tile, End Tile ]
- Resolution: 78271.51696399994
- Scale: 2.95828763795777E8
-
Level ID: 2
[ Start Tile, End Tile ]
- Resolution: 39135.75848200009
- Scale: 1.47914381897889E8
-
Level ID: 3
[ Start Tile, End Tile ]
- Resolution: 19567.87924099992
- Scale: 7.3957190948944E7
-
Level ID: 4
[ Start Tile, End Tile ]
- Resolution: 9783.93962049996
- Scale: 3.6978595474472E7
-
Level ID: 5
[ Start Tile, End Tile ]
- Resolution: 4891.96981024998
- Scale: 1.8489297737236E7
- Format: MIXED
- Compression Quality: 75.0
- Origin: X: -2.0037508342787E7
Y: 2.0037508342787E7
- Spatial Reference: 102100
(3857)
Storage Info:
- Storage Format: esriMapCacheStorageModeCompactV2
- Packet Size: 128
Initial Extent:
XMin: -8304198.0479821265
YMin: 447683.80267807865
XMax: -8222400.138648793
YMax: 505847.48001141194
Spatial Reference: 102100
Full Extent:
XMin: -8290693.09331546
YMin: 413908.6413447453
XMax: -8235905.09331546
YMax: 539622.6413447453
Spatial Reference: 102100
Units: esriMeters
Supported Image Format Types: PNG32,PNG24,PNG,JPG,DIB,TIFF,EMF,PS,PDF,GIF,SVG,SVGZ,BMP
Document Info:
Title: WorldView-2 Bogotá Rural 2015
Author:
Comments: Imagen satelital WorldView-2 que comprende un mosaico ráster del Distrito Capital de Bogotá. El producto fue generado a partir de imágenes satelitales capturadas en el año 2015. Cuenta con una resolución espacial (GSD) de 50cm; resolución radiométrica de 16 bits y resolución espectral de 3 bandas (rojo, verde y azul).
Subject: Imagen satelital WorldView-2 que comprende un mosaico ráster con cubrimiento de la zona rural del Distrito Capital de Bogotá para el año 2015.
Category:
Keywords: WorldView-2
AntialiasingMode: None
TextAntialiasingMode: Force
Supports Dynamic Layers: true
Resampling: false
MaxRecordCount: 2000
MaxImageHeight: 4096
MaxImageWidth: 4096
Supported Query Formats: JSON, geoJSON, PBF
Supports Query Data Elements: true
Min Scale: 5.91657527591555E8
Max Scale: 564.248588
Supports Datum Transformation: true
Child Resources:
Info
Dynamic Layer
Supported Operations:
Export Map
Identify
QueryLegends
QueryDomains
Find
Return Updates