View In:
ArcGIS JavaScript
ArcGIS Online Map Viewer
ArcGIS Earth
ArcGIS Pro
Service Description: Ortoimagen digital que comprende un mosaico ráster con cubrimiento parcial del Distrito Capital de Bogotá. El producto fue generado a partir de fotografías aéreas multiespectrales capturadas en el año 2004 utilizando una cámara análoga. Cuenta con una resolución espacial (GSD) de 20cm; resolución radiométrica de 16 bits y resolución espectral de 3 bandas (rojo, verde y azul).
Map Name: Ortho Bogotá Urbano 2007
Legend
All Layers and Tables
Dynamic Legend
Dynamic All Layers
Layers:
Description: Ortoimagen digital que comprende un mosaico ráster con cubrimiento parcial del Distrito Capital de Bogotá. El producto fue generado a partir de fotografías aéreas multiespectrales capturadas en el año 2004 utilizando una cámara análoga. Cuenta con una resolución espacial (GSD) de 20cm; resolución radiométrica de 16 bits y resolución espectral de 3 bandas (rojo, verde y azul).
Service Item Id: 8a8faf24ffe1449699fd0728d80874fa
Copyright Text: Secretaría Distrital de Planeación - SDP
Spatial Reference:
102100
(3857)
Single Fused Map Cache: true
Tile Info:
- Height: 256
- Width: 256
- DPI: 96
-
Levels of Detail: 21
-
Level ID: 0
[ Start Tile, End Tile ]
- Resolution: 156543.03392800014
- Scale: 5.91657527591555E8
-
Level ID: 1
[ Start Tile, End Tile ]
- Resolution: 78271.51696399994
- Scale: 2.95828763795777E8
-
Level ID: 2
[ Start Tile, End Tile ]
- Resolution: 39135.75848200009
- Scale: 1.47914381897889E8
-
Level ID: 3
[ Start Tile, End Tile ]
- Resolution: 19567.87924099992
- Scale: 7.3957190948944E7
-
Level ID: 4
[ Start Tile, End Tile ]
- Resolution: 9783.93962049996
- Scale: 3.6978595474472E7
-
Level ID: 5
[ Start Tile, End Tile ]
- Resolution: 4891.96981024998
- Scale: 1.8489297737236E7
- Format: MIXED
- Compression Quality: 75.0
- Origin: X: -2.0037508342787E7
Y: 2.0037508342787E7
- Spatial Reference: 102100
(3857)
Storage Info:
- Storage Format: esriMapCacheStorageModeCompactV2
- Packet Size: 128
Initial Extent:
XMin: -8261488.064638984
YMin: 507333.7962780021
XMax: -8237251.240614456
YMax: 524567.7674593771
Spatial Reference: 102100
Full Extent:
XMin: -8258308.418487233
YMin: 498067.01326330076
XMax: -8240253.20000576
YMax: 534412.0324455297
Spatial Reference: 102100
Units: esriMeters
Supported Image Format Types: PNG32,PNG24,PNG,JPG,DIB,TIFF,EMF,PS,PDF,GIF,SVG,SVGZ,BMP
Document Info:
Title: Ortho Bogotá Urbano 2007
Author:
Comments: Ortoimagen digital que comprende un mosaico ráster con cubrimiento parcial del Distrito Capital de Bogotá. El producto fue generado a partir de fotografías aéreas multiespectrales capturadas en el año 2004 utilizando una cámara análoga. Cuenta con una resolución espacial (GSD) de 20cm; resolución radiométrica de 16 bits y resolución espectral de 3 bandas (rojo, verde y azul).
Subject: Ortoimagen digital que comprende un mosaico ráster ortorrectificado con cubrimiento de la zona urbana del Distrito Capital de Bogotá para el año 2007.
Category:
Keywords: Ortofoto,Bogotá,Urbano,Modelo,Raster,Mosaico,Imagen,2007
AntialiasingMode: None
TextAntialiasingMode: Force
Supports Dynamic Layers: true
Resampling: false
MaxRecordCount: 2000
MaxImageHeight: 4096
MaxImageWidth: 4096
Supported Query Formats: JSON, geoJSON, PBF
Supports Query Data Elements: true
Min Scale: 5.91657527591555E8
Max Scale: 564.248588
Supports Datum Transformation: true
Child Resources:
Info
Dynamic Layer
Supported Operations:
Export Map
Identify
QueryLegends
QueryDomains
Find
Return Updates