View In:
ArcGIS JavaScript
ArcGIS Online Map Viewer
ArcGIS Earth
ArcGIS Pro
Service Description: Ortoimagen digital que comprende un mosaico ráster con cubrimiento parcial del Distrito Capital de Bogotá. El producto fue generado a partir de fotografías aéreas pancromáticas capturadas en el año 1998 utilizando una cámara métrica analógica. Cuenta con una resolución espacial (GSD) de 16cm; resolución radiométrica de 16 bits y resolución espectral de 1 banda (pancromática).
Map Name: Ortho Bogotá Urbano 1998
Legend
All Layers and Tables
Dynamic Legend
Dynamic All Layers
Layers:
Description: Ortoimagen digital que comprende un mosaico ráster con cubrimiento parcial del Distrito Capital de Bogotá. El producto fue generado a partir de fotografías aéreas pancromáticas capturadas en el año 1998 utilizando una cámara métrica analógica. Cuenta con una resolución espacial (GSD) de 16cm; resolución radiométrica de 16 bits y resolución espectral de 1 banda (pancromática).
Service Item Id: b130008095e84556b49d6dedaf265e24
Copyright Text: Secretaría Distrital de Planeación - SDP
Spatial Reference:
102100
(3857)
Single Fused Map Cache: true
Tile Info:
- Height: 256
- Width: 256
- DPI: 96
-
Levels of Detail: 21
-
Level ID: 0
[ Start Tile, End Tile ]
- Resolution: 156543.03392800014
- Scale: 5.91657527591555E8
-
Level ID: 1
[ Start Tile, End Tile ]
- Resolution: 78271.51696399994
- Scale: 2.95828763795777E8
-
Level ID: 2
[ Start Tile, End Tile ]
- Resolution: 39135.75848200009
- Scale: 1.47914381897889E8
-
Level ID: 3
[ Start Tile, End Tile ]
- Resolution: 19567.87924099992
- Scale: 7.3957190948944E7
-
Level ID: 4
[ Start Tile, End Tile ]
- Resolution: 9783.93962049996
- Scale: 3.6978595474472E7
-
Level ID: 5
[ Start Tile, End Tile ]
- Resolution: 4891.96981024998
- Scale: 1.8489297737236E7
- Format: MIXED
- Compression Quality: 75.0
- Origin: X: -2.0037508342787E7
Y: 2.0037508342787E7
- Spatial Reference: 102100
(3857)
Storage Info:
- Storage Format: esriMapCacheStorageModeCompactV2
- Packet Size: 128
Initial Extent:
XMin: -8266083.839941815
YMin: 509459.27092472
XMax: -8238493.613530308
YMax: 529077.7310984756
Spatial Reference: 102100
Full Extent:
XMin: -8264325.27258685
YMin: 498066.99506013276
XMax: -8240252.180885273
YMax: 540470.0069630629
Spatial Reference: 102100
Units: esriMeters
Supported Image Format Types: PNG32,PNG24,PNG,JPG,DIB,TIFF,EMF,PS,PDF,GIF,SVG,SVGZ,BMP
Document Info:
Title: Ortho Bogotá Urbano 1998
Author:
Comments: Ortoimagen digital que comprende un mosaico ráster con cubrimiento parcial del Distrito Capital de Bogotá. El producto fue generado a partir de fotografías aéreas pancromáticas capturadas en el año 1998 utilizando una cámara métrica analógica. Cuenta con una resolución espacial (GSD) de 16cm; resolución radiométrica de 16 bits y resolución espectral de 1 banda (pancromática).
Subject: Ortoimagen digital que comprende un mosaico ráster ortorrectificado con cubrimiento de la zona urbana del Distrito Capital de Bogotá para el año 1998.
Category:
Keywords: Ortofoto
AntialiasingMode: None
TextAntialiasingMode: Force
Supports Dynamic Layers: true
Resampling: false
MaxRecordCount: 2000
MaxImageHeight: 4096
MaxImageWidth: 4096
Supported Query Formats: JSON, geoJSON, PBF
Supports Query Data Elements: true
Min Scale: 5.91657527591555E8
Max Scale: 564.248588
Supports Datum Transformation: true
Child Resources:
Info
Dynamic Layer
Supported Operations:
Export Map
Identify
QueryLegends
QueryDomains
Find
Return Updates