View In:
ArcGIS JavaScript
ArcGIS Online Map Viewer
ArcGIS Earth
ArcGIS Pro
Service Description: Mapa base con datos vectoriales de cartografía básica del área urbana y rural para los municipios de Cajicá, Chía, Chipaque, Choachí, Cota, El Rosal, Facatativá, Funza, Gachancipá, Gutiérrez, La Calera, Madrid, Mosquera, Pasca, Soacha, Sopo, Tabio, Tenjo, Tocancipá, Ubaque, Une y Zipaquirá. Para la zona urbana la escala de captura es 1:2.000 y para la zona rural es 1:5.000.
Map Name: Municipios vecinos Cundinamarca
Legend
All Layers and Tables
Dynamic Legend
Dynamic All Layers
Layers:
Description: Mapa base con datos vectoriales de cartografía básica del área urbana y rural para los municipios de Cajicá, Chía, Chipaque, Choachí, Cota, El Rosal, Facatativá, Funza, Gachancipá, Gutiérrez, La Calera, Madrid, Mosquera, Pasca, Soacha, Sopo, Tabio, Tenjo, Tocancipá, Ubaque, Une y Zipaquirá. Para la zona urbana la escala de captura es 1:2.000 y para la zona rural es 1:5.000.
Service Item Id: 3d333a50bdfb458e990164c4f970315d
Copyright Text: Contrato 235-2018 Unidad Administrativa Especial de Catastro Distrital - UAECD
Spatial Reference:
102100
(3857)
LatestVCSWkid(0)
Single Fused Map Cache: true
Tile Info:
- Height: 256.0
- Width: 256.0
- DPI: 96.0
-
Levels of Detail: 24
-
Level ID: 0
[ Start Tile, End Tile ]
- Resolution: 156543.03392800014
- Scale: 5.91657527591555E8
-
Level ID: 1
[ Start Tile, End Tile ]
- Resolution: 78271.51696399994
- Scale: 2.95828763795777E8
-
Level ID: 2
[ Start Tile, End Tile ]
- Resolution: 39135.75848200009
- Scale: 1.47914381897889E8
-
Level ID: 3
[ Start Tile, End Tile ]
- Resolution: 19567.87924099992
- Scale: 7.3957190948944E7
-
Level ID: 4
[ Start Tile, End Tile ]
- Resolution: 9783.93962049996
- Scale: 3.6978595474472E7
-
Level ID: 5
[ Start Tile, End Tile ]
- Resolution: 4891.96981024998
- Scale: 1.8489297737236E7
- Format: MIXED
- Compression Quality: 75.0
- Origin: X: -2.0037508342787E7
Y: 2.0037508342787E7
- Spatial Reference: 102100
(3857)
LatestVCSWkid(0)
Storage Info:
- Storage Format: esriMapCacheStorageModeCompactV2
- Packet Size: 128
Initial Extent:
XMin: -8278792.178105755
YMin: 499327.95951308124
XMax: -8204189.638499394
YMax: 552375.2571430139
Spatial Reference: 102100
(0)
LatestVCSWkid(0)
Full Extent:
XMin: -8529799.97953648
YMin: 172878.61334707888
XMax: -7912313.967658497
YMax: 787485.3121765889
Spatial Reference: 102100
(0)
LatestVCSWkid(0)
Units: esriMeters
Supported Image Format Types: PNG32,PNG24,PNG,JPG,DIB,TIFF,EMF,PS,PDF,GIF,SVG,SVGZ,BMP
Document Info:
Title: Municipios vecinos Cundinamarca
Author:
Comments: Mapa base con datos vectoriales de cartografía básica del área urbana y rural para los municipios de Cajicá, Chía, Chipaque, Choachí, Cota, El Rosal, Facatativá, Funza, Gachancipá, Gutiérrez, La Calera, Madrid, Mosquera, Pasca, Soacha, Sopo, Tabio, Tenjo, Tocancipá, Ubaque, Une y Zipaquirá. Para la zona urbana la escala de captura es 1:2.000 y para la zona rural es 1:5.000.
Subject: Mapa Base con datos vectoriales de cartografía básica del área urbana y rural para 22 municipios colindantes con Bogotá D.C.
Category:
Keywords: Mapa base
AntialiasingMode: Fast
TextAntialiasingMode: Force
Supports Dynamic Layers: true
Resampling: false
MaxRecordCount: 0
MaxImageHeight: 4096
MaxImageWidth: 4096
Supported Query Formats: JSON, geoJSON, PBF
Supports Query Data Elements: true
Min Scale: 5.91657527591555E8
Max Scale: 564.248588
Supports Datum Transformation: true
Child Resources:
Info
Dynamic Layer
Supported Operations:
Export Map
QueryLegends
Return Updates