<?xml version="1.0" encoding="UTF-8" standalone="no"?>
<metadata xml:lang="es">
<Esri>
<CreaDate>20240919</CreaDate>
<CreaTime>18151300</CreaTime>
<ArcGISFormat>1.0</ArcGISFormat>
<SyncOnce>FALSE</SyncOnce>
<DataProperties>
<lineage>
<Process Date="20240919" Time="181513" ToolSource="c:\program files (x86)\arcgis\desktop10.8\ArcToolbox\Toolboxes\Spatial Analyst Tools.tbx\KernelDensity">KernelDensity "Matrícula en Colegios Oficiales\Matrícula Total en Colegios Oficiales" NONE "D:\Ana Ju\Documents\ArcGIS\Default.gdb\KernelD_Matr2" 40 # SQUARE_KILOMETERS DENSITIES PLANAR</Process>
<Process Date="20240919" Time="182207" ToolSource="c:\program files (x86)\arcgis\desktop10.8\ArcToolbox\Toolboxes\Data Management Tools.tbx\Clip">Clip KernelD_Matr2 "-8287711,5467 415630,245099999 -8236143,3214 539068,431899998" "D:\Ana Ju\Documents\ArcGIS\Default.gdb\KernelD_Matr2_Clip" "D:\Ana Ju\Documents\Ana Julier Fonseca\FONSECA\SDEDUCACIÓN\2024\IDECA\GDB\11092024\SED_09_2024.gdb\Territorialización\TerritorializacionInversion2023" -3,402823e+38 NONE NO_MAINTAIN_EXTENT</Process>
<Process Date="20240919" Time="182541" ToolSource="c:\program files (x86)\arcgis\desktop10.8\ArcToolbox\Toolboxes\Data Management Tools.tbx\Clip">Clip KernelD_Matr2_Clip "-8287711,5467 415630,245099999 -8236143,3214 539068,431899998" "D:\Ana Ju\Documents\Ana Julier Fonseca\FONSECA\SDEDUCACIÓN\2024\IDECA\GDB\11092024\SED_09_2024.gdb\Densidad_Matricula_2024" "Territorialización de la inversión SED 2023" -3,402823e+38 ClippingGeometry NO_MAINTAIN_EXTENT</Process>
<Process Date="20241011" Time="172123" ToolSource="c:\program files (x86)\arcgis\desktop10.8\ArcToolbox\Toolboxes\Data Management Tools.tbx\Copy">Copy C:\ConexionesBD_IDECA\PRUEBAS\PruebasIdeca@educacion.sde\pruebaideca.educacion.Densidad_Matricula_2024 C:\Users\adminideca\Desktop\20241010_Educacion.gdb\Densidad_Matricula_2024 RasterDataset</Process>
<Process Date="20241015" Time="102433" ToolSource="c:\program files (x86)\arcgis\desktop10.8\ArcToolbox\Toolboxes\Data Management Tools.tbx\Copy">Copy C:\Users\mbernate\Desktop\20241010_Educacion.gdb\Densidad_Matricula_2024 C:\Users\mbernate\Desktop\OCI\OCI@EDUCACION.sde\EDUCACION.Densidad_Matricula_2024 RasterDataset</Process>
<Process Date="20241105" Time="172030" ToolSource="c:\program files\arcgis\pro\Resources\ArcToolbox\Toolboxes\Data Management Tools.tbx\CopyMultiple">CopyMultiple "D:\instaladores\conexiones\conexionesIDECA\AzureIDECA\AZURE@EDUCACION.sde\EDUCACION.APrimeraInfancia Table;D:\instaladores\conexiones\conexionesIDECA\AzureIDECA\AZURE@EDUCACION.sde\EDUCACION.Clasificacion Table;D:\instaladores\conexiones\conexionesIDECA\AzureIDECA\AZURE@EDUCACION.sde\EDUCACION.Densidad_Matricula_2024 RasterDataset;D:\instaladores\conexiones\conexionesIDECA\AzureIDECA\AZURE@EDUCACION.sde\EDUCACION.DUE_No_Oficiales Table;D:\instaladores\conexiones\conexionesIDECA\AzureIDECA\AZURE@EDUCACION.sde\EDUCACION.DUE_Oficiales Table;D:\instaladores\conexiones\conexionesIDECA\AzureIDECA\AZURE@EDUCACION.sde\EDUCACION.Matricula Table;D:\instaladores\conexiones\conexionesIDECA\AzureIDECA\AZURE@EDUCACION.sde\EDUCACION.TasaDesercionColegioNoOficial RasterDataset;D:\instaladores\conexiones\conexionesIDECA\AzureIDECA\AZURE@EDUCACION.sde\EDUCACION.TasaDesercionColegioOficial RasterDataset" D:\instaladores\conexiones\Nueva_conexion_19c\MAPASBOG@EDUCACION.sde APrimeraInfancia;Clasificacion;Densidad_Matricula_2024;DUE_No_Oficiales;DUE_Oficiales;Matricula;TasaDesercionColegioNoOficial;TasaDesercionColegioOficial "EDUCACION.APrimeraInfancia TableDataset EDUCACION.APrimeraInfancia #;EDUCACION.Clasificacion TableDataset EDUCACION.Clasificacion #;EDUCACION.Densidad_Matricula_2024 RasterDataset EDUCACION.Densidad_Matricula_2024 #;EDUCACION.DUE_No_Oficiales TableDataset EDUCACION.DUE_No_Oficiales #;EDUCACION.DUE_Oficiales TableDataset EDUCACION.DUE_Oficiales #;EDUCACION.Matricula TableDataset EDUCACION.Matricula #;EDUCACION.TasaDesercionColegioNoOficial RasterDataset EDUCACION.TasaDesercionColegioNoOficial #;EDUCACION.TasaDesercionColegioOficial RasterDataset EDUCACION.TasaDesercionColegioOficial #"</Process>
</lineage>
<itemProps>
<itemName Sync="TRUE">Densidad_Matricula_2024</itemName>
<imsContentType Sync="TRUE">002</imsContentType>
<nativeExtBox>
<westBL Sync="TRUE">-8281617.690319</westBL>
<eastBL Sync="TRUE">-8239257.690319</eastBL>
<southBL Sync="TRUE">426430.537381</southBL>
<northBL Sync="TRUE">535150.537381</northBL>
<exTypeCode Sync="TRUE">1</exTypeCode>
</nativeExtBox>
<itemLocation>
<linkage Sync="TRUE">file://\\ANAJU-ASUS\D$\Ana Ju\Documents\Ana Julier Fonseca\FONSECA\SDEDUCACIÓN\2024\IDECA\GDB\11092024\SED_09_2024.gdb</linkage>
<protocol Sync="TRUE">Local Area Network</protocol>
</itemLocation>
</itemProps>
<coordRef>
<type Sync="TRUE">Projected</type>
<geogcsn Sync="TRUE">GCS_WGS_1984</geogcsn>
<csUnits Sync="TRUE">Linear Unit: Meter (1.000000)</csUnits>
<projcsn Sync="TRUE">WGS_1984_Web_Mercator_Auxiliary_Sphere</projcsn>
<peXml Sync="TRUE">&lt;ProjectedCoordinateSystem xsi:type='typens:ProjectedCoordinateSystem' xmlns:xsi='http://www.w3.org/2001/XMLSchema-instance' xmlns:xs='http://www.w3.org/2001/XMLSchema' xmlns:typens='http://www.esri.com/schemas/ArcGIS/10.8'&gt;&lt;WKT&gt;PROJCS[&amp;quot;WGS_1984_Web_Mercator_Auxiliary_Sphere&amp;quot;,GEOGCS[&amp;quot;GCS_WGS_1984&amp;quot;,DATUM[&amp;quot;D_WGS_1984&amp;quot;,SPHEROID[&amp;quot;WGS_1984&amp;quot;,6378137.0,298.257223563]],PRIMEM[&amp;quot;Greenwich&amp;quot;,0.0],UNIT[&amp;quot;Degree&amp;quot;,0.0174532925199433]],PROJECTION[&amp;quot;Mercator_Auxiliary_Sphere&amp;quot;],PARAMETER[&amp;quot;False_Easting&amp;quot;,0.0],PARAMETER[&amp;quot;False_Northing&amp;quot;,0.0],PARAMETER[&amp;quot;Central_Meridian&amp;quot;,0.0],PARAMETER[&amp;quot;Standard_Parallel_1&amp;quot;,0.0],PARAMETER[&amp;quot;Auxiliary_Sphere_Type&amp;quot;,0.0],UNIT[&amp;quot;Meter&amp;quot;,1.0],AUTHORITY[&amp;quot;EPSG&amp;quot;,3857]]&lt;/WKT&gt;&lt;XOrigin&gt;-20037700&lt;/XOrigin&gt;&lt;YOrigin&gt;-30241100&lt;/YOrigin&gt;&lt;XYScale&gt;148923141.92838538&lt;/XYScale&gt;&lt;ZOrigin&gt;-100000&lt;/ZOrigin&gt;&lt;ZScale&gt;10000&lt;/ZScale&gt;&lt;MOrigin&gt;-100000&lt;/MOrigin&gt;&lt;MScale&gt;10000&lt;/MScale&gt;&lt;XYTolerance&gt;0.001&lt;/XYTolerance&gt;&lt;ZTolerance&gt;0.001&lt;/ZTolerance&gt;&lt;MTolerance&gt;0.001&lt;/MTolerance&gt;&lt;HighPrecision&gt;true&lt;/HighPrecision&gt;&lt;WKID&gt;102100&lt;/WKID&gt;&lt;LatestWKID&gt;3857&lt;/LatestWKID&gt;&lt;/ProjectedCoordinateSystem&gt;</peXml>
</coordRef>
</DataProperties>
<SyncDate>20240919</SyncDate>
<SyncTime>18253900</SyncTime>
<ModDate>20240919</ModDate>
<ModTime>18253900</ModTime>
</Esri>
<dataIdInfo>
<envirDesc Sync="TRUE"> Version 6.2 (Build 9200) ; Esri ArcGIS 10.8.1.14362</envirDesc>
<dataLang>
<languageCode Sync="TRUE" value="spa"/>
<countryCode Sync="TRUE" value="COL"/>
</dataLang>
<idCitation>
<resTitle Sync="TRUE">densidadmatriculas</resTitle>
<presForm>
<PresFormCd Sync="TRUE" value="011"/>
</presForm>
</idCitation>
<spatRpType>
<SpatRepTypCd Sync="TRUE" value="002"/>
</spatRpType>
<dataExt>
<geoEle>
<GeoBndBox esriExtentType="search">
<exTypeCode Sync="TRUE">1</exTypeCode>
<westBL Sync="TRUE">-74.395037</westBL>
<eastBL Sync="TRUE">-74.014511</eastBL>
<northBL Sync="TRUE">4.801708</northBL>
<southBL Sync="TRUE">3.827840</southBL>
</GeoBndBox>
</geoEle>
</dataExt>
<idAbs>Densidad de Matriculados en Colegios Oficiales</idAbs>
<searchKeys>
<keyword>educacion</keyword>
</searchKeys>
<idPurp>Densidad de Matriculados en Colegios Oficiales</idPurp>
<idCredit/>
<resConst>
<Consts>
<useLimit>CC BY-4.0</useLimit>
</Consts>
</resConst>
</dataIdInfo>
<mdLang>
<languageCode Sync="TRUE" value="spa"/>
<countryCode Sync="TRUE" value="COL"/>
</mdLang>
<distInfo>
<distFormat>
<formatName Sync="TRUE">Dataset ráster de geodatabase de archivos</formatName>
</distFormat>
</distInfo>
<mdHrLv>
<ScopeCd Sync="TRUE" value="005"/>
</mdHrLv>
<mdHrLvName Sync="TRUE">dataset</mdHrLvName>
<refSysInfo>
<RefSystem>
<refSysID>
<identCode Sync="TRUE" code="3857"/>
<idCodeSpace Sync="TRUE">EPSG</idCodeSpace>
<idVersion Sync="TRUE">8.8(9.3.1.2)</idVersion>
</refSysID>
</RefSystem>
</refSysInfo>
<spdoinfo>
<rastinfo>
<rasttype Sync="TRUE">Pixel</rasttype>
<rowcount Sync="TRUE">2718</rowcount>
<colcount Sync="TRUE">1059</colcount>
<rastxsz Sync="TRUE">40,000000</rastxsz>
<rastysz Sync="TRUE">40,000000</rastysz>
<rastbpp Sync="TRUE">32</rastbpp>
<vrtcount Sync="TRUE">1</vrtcount>
<rastorig Sync="TRUE">Upper Left</rastorig>
<rastcmap Sync="TRUE">FALSE</rastcmap>
<rastcomp Sync="TRUE">LZ77</rastcomp>
<rastband Sync="TRUE">1</rastband>
<rastdtyp Sync="TRUE">pixel codes</rastdtyp>
<rastifor Sync="TRUE">FGDBR</rastifor>
<rastplyr Sync="TRUE">TRUE</rastplyr>
</rastinfo>
</spdoinfo>
<spref>
<horizsys>
<planar>
<planci>
<plance Sync="TRUE">row and column</plance>
<coordrep>
<absres Sync="TRUE">40,000000</absres>
<ordres Sync="TRUE">40,000000</ordres>
</coordrep>
</planci>
</planar>
</horizsys>
</spref>
<mdDateSt Sync="TRUE">20240919</mdDateSt>
</metadata>
