<?xml version="1.0" encoding="UTF-8" standalone="no"?>
<metadata xml:lang="es">
<Esri>
<CreaDate>20220818</CreaDate>
<CreaTime>11534600</CreaTime>
<ArcGISFormat>1.0</ArcGISFormat>
<ArcGISstyle>Item Description</ArcGISstyle>
<SyncOnce>FALSE</SyncOnce>
<DataProperties>
<lineage>
<Process Date="20220818" Name="" Time="115346" ToolSource="c:\program files (x86)\arcgis\desktop10.5\ArcToolbox\Toolboxes\Data Management Tools.tbx\CreateMosaicDataset" export="">CreateMosaicDataset \\vmimgserver01\E\agserver\imagenes\Cundinamarca\municipioscundinamarcaurbano.gdb municipioscundinamarcaurbano "PROJCS['MAGNA_Colombia_Bogota',GEOGCS['GCS_MAGNA',DATUM['D_MAGNA',SPHEROID['GRS_1980',6378137.0,298.257222101]],PRIMEM['Greenwich',0.0],UNIT['Degree',0.0174532925199433]],PROJECTION['Transverse_Mercator'],PARAMETER['False_Easting',1000000.0],PARAMETER['False_Northing',1000000.0],PARAMETER['Central_Meridian',-74.07750791666666],PARAMETER['Scale_Factor',1.0],PARAMETER['Latitude_Of_Origin',4.596200416666666],UNIT['Meter',1.0]];-4623200 -9510300 450265407,001579;-100000 10000;-100000 10000;0,001;0,001;0,001;IsHighPrecision" 4 8_BIT_UNSIGNED NATURAL_COLOR_RGBI "Red 630 690;Green 530 570;Blue 440 510;Infrared 770 830"</Process>
<Process Date="20220818" Name="" Time="120543" ToolSource="c:\program files (x86)\arcgis\desktop10.5\ArcToolbox\Toolboxes\Data Management Tools.tbx\DefineMosaicDatasetNoData" export="">DefineMosaicDatasetNoData \\vmimgserver01\E\agserver\imagenes\Cundinamarca\municipioscundinamarcaurbano.gdb\municipioscundinamarcaurbano 4 "ALL_BANDS 0" # "Name &lt;&gt; 'FunzaUrbano'" NO_COMPOSITE_NODATA</Process>
<Process Date="20220818" Name="" Time="120639" ToolSource="c:\program files (x86)\arcgis\desktop10.5\ArcToolbox\Toolboxes\Data Management Tools.tbx\DefineMosaicDatasetNoData" export="">DefineMosaicDatasetNoData \\vmimgserver01\E\agserver\imagenes\Cundinamarca\municipioscundinamarcaurbano.gdb\municipioscundinamarcaurbano 4 "ALL_BANDS 255" # "Name = 'FunzaUrbano'" NO_COMPOSITE_NODATA</Process>
<Process Date="20220818" Name="" Time="121349" ToolSource="c:\program files (x86)\arcgis\desktop10.5\ArcToolbox\Toolboxes\Data Management Tools.tbx\BuildFootprints" export="">BuildFootprints \\vmimgserver01\E\agserver\imagenes\Cundinamarca\municipioscundinamarcaurbano.gdb\municipioscundinamarcaurbano # RADIOMETRY 1 255 -1 0 NO_MAINTAIN_EDGES SKIP_DERIVED_IMAGES UPDATE_BOUNDARY 2000 100 NONE # 20 0,05</Process>
<Process Date="20220818" Name="" Time="140359" ToolSource="c:\program files (x86)\arcgis\desktop10.5\ArcToolbox\Toolboxes\Data Management Tools.tbx\BuildPyramidsandStatistics" export="">BuildPyramidsandStatistics \\vmimgserver01\E\agserver\imagenes\Cundinamarca\municipioscundinamarcaurbano.gdb\municipioscundinamarcaurbano INCLUDE_SUBDIRECTORIES BUILD_PYRAMIDS CALCULATE_STATISTICS NONE # NONE 1 1 # -1 NONE NEAREST DEFAULT 75 SKIP_EXISTING #</Process>
<Process Date="20220818" Name="" Time="150221" ToolSource="c:\program files (x86)\arcgis\desktop10.5\ArcToolbox\Toolboxes\Data Management Tools.tbx\DefineOverviews" export="">DefineOverviews \\vmimgserver01\E\agserver\imagenes\Cundinamarca\municipioscundinamarcaurbano.gdb\municipioscundinamarcaurbano \\vmimgserver01\E\agserver\imagenes\Cundinamarca\municipioscundinamarcaurbano.Overviews\municipioscundinamarcaurbano.Overviews # "967679,606614739 961901,731000002 1023742,13793578 1049262,74074984" 0,2 -1 5120 5120 3 NO_FORCE_OVERVIEW_TILES BILINEAR JPEG 80</Process>
<Process Date="20220818" Name="" Time="152457" ToolSource="c:\program files (x86)\arcgis\desktop10.5\ArcToolbox\Toolboxes\Data Management Tools.tbx\BuildOverviews" export="">BuildOverviews \\vmimgserver01\E\agserver\imagenes\Cundinamarca\municipioscundinamarcaurbano.gdb\municipioscundinamarcaurbano # DEFINE_MISSING_TILES GENERATE_OVERVIEWS IGNORE_MISSING_IMAGES IGNORE_STALE_IMAGES</Process>
</lineage>
<itemProps>
<itemName Sync="TRUE">municipioscundinamarcaurbano</itemName>
<itemLocation>
<linkage Sync="TRUE">file://\\vmimgserver01\E\agserver\imagenes\Cundinamarca\municipioscundinamarcaurbano.gdb</linkage>
<protocol Sync="TRUE">Local Area Network</protocol>
</itemLocation>
<nativeExtBox>
<westBL Sync="TRUE">967679.540875</westBL>
<eastBL Sync="TRUE">1023742.140875</eastBL>
<southBL Sync="TRUE">961901.614183</southBL>
<northBL Sync="TRUE">1049265.014183</northBL>
<exTypeCode Sync="TRUE">1</exTypeCode>
</nativeExtBox>
</itemProps>
<coordRef>
<type Sync="TRUE">Projected</type>
<geogcsn Sync="TRUE">GCS_MAGNA</geogcsn>
<csUnits Sync="TRUE">Linear Unit: Meter (1.000000)</csUnits>
<projcsn Sync="TRUE">MAGNA_Colombia_Bogota</projcsn>
<peXml Sync="TRUE">&lt;ProjectedCoordinateSystem xsi:type='typens:ProjectedCoordinateSystem' xmlns:xsi='http://www.w3.org/2001/XMLSchema-instance' xmlns:xs='http://www.w3.org/2001/XMLSchema' xmlns:typens='http://www.esri.com/schemas/ArcGIS/10.5'&gt;&lt;WKT&gt;PROJCS[&amp;quot;MAGNA_Colombia_Bogota&amp;quot;,GEOGCS[&amp;quot;GCS_MAGNA&amp;quot;,DATUM[&amp;quot;D_MAGNA&amp;quot;,SPHEROID[&amp;quot;GRS_1980&amp;quot;,6378137.0,298.257222101]],PRIMEM[&amp;quot;Greenwich&amp;quot;,0.0],UNIT[&amp;quot;Degree&amp;quot;,0.0174532925199433]],PROJECTION[&amp;quot;Transverse_Mercator&amp;quot;],PARAMETER[&amp;quot;False_Easting&amp;quot;,1000000.0],PARAMETER[&amp;quot;False_Northing&amp;quot;,1000000.0],PARAMETER[&amp;quot;Central_Meridian&amp;quot;,-74.07750791666666],PARAMETER[&amp;quot;Scale_Factor&amp;quot;,1.0],PARAMETER[&amp;quot;Latitude_Of_Origin&amp;quot;,4.596200416666666],UNIT[&amp;quot;Meter&amp;quot;,1.0],AUTHORITY[&amp;quot;EPSG&amp;quot;,3116]]&lt;/WKT&gt;&lt;XOrigin&gt;-4623200&lt;/XOrigin&gt;&lt;YOrigin&gt;-9510300&lt;/YOrigin&gt;&lt;XYScale&gt;450265407.00157917&lt;/XYScale&gt;&lt;ZOrigin&gt;-100000&lt;/ZOrigin&gt;&lt;ZScale&gt;10000&lt;/ZScale&gt;&lt;MOrigin&gt;-100000&lt;/MOrigin&gt;&lt;MScale&gt;10000&lt;/MScale&gt;&lt;XYTolerance&gt;0.001&lt;/XYTolerance&gt;&lt;ZTolerance&gt;0.001&lt;/ZTolerance&gt;&lt;MTolerance&gt;0.001&lt;/MTolerance&gt;&lt;HighPrecision&gt;true&lt;/HighPrecision&gt;&lt;WKID&gt;3116&lt;/WKID&gt;&lt;LatestWKID&gt;3116&lt;/LatestWKID&gt;&lt;/ProjectedCoordinateSystem&gt;</peXml>
</coordRef>
<RasterProperties>
<General>
<PixelDepth Sync="TRUE">8</PixelDepth>
<HasColormap Sync="TRUE">FALSE</HasColormap>
<CompressionType Sync="TRUE">None</CompressionType>
<NumBands Sync="TRUE">4</NumBands>
<Format Sync="TRUE">AMD</Format>
<HasPyramids Sync="TRUE">TRUE</HasPyramids>
<SourceType Sync="TRUE">continuous</SourceType>
<PixelType Sync="TRUE">unsigned integer</PixelType>
<NoDataValue Sync="TRUE"/>
</General>
<Properties>
<MaxImageHeight Sync="TRUE">4100</MaxImageHeight>
<MaxImageWidth Sync="TRUE">15000</MaxImageWidth>
<MaxRecordCount Sync="TRUE">1000</MaxRecordCount>
<MaxDownloadImageCount Sync="TRUE">20</MaxDownloadImageCount>
<MaxDownloadSizeLimit Sync="TRUE">2048</MaxDownloadSizeLimit>
<MaxMosaicImageCount Sync="TRUE">20</MaxMosaicImageCount>
<DefaultCompressionQuality Sync="TRUE">75</DefaultCompressionQuality>
<DefaultCompressionTolerance Sync="TRUE">0,01</DefaultCompressionTolerance>
<BlendWidth Sync="TRUE">10</BlendWidth>
<ViewpointSpacingX Sync="TRUE">600</ViewpointSpacingX>
<ViewpointSpacingY Sync="TRUE">300</ViewpointSpacingY>
<AllowedItemMetadata Sync="TRUE">Basic</AllowedItemMetadata>
<DefaultResamplingMethod Sync="TRUE">1</DefaultResamplingMethod>
<AllowedMosaicMethods Sync="TRUE">NorthWest,Center,LockRaster,ByAttribute,Nadir,Viewpoint,Seamline,None</AllowedMosaicMethods>
<AllowedCompressions Sync="TRUE">None,JPEG,LZ77,LERC</AllowedCompressions>
<AllowedMensurationCapabilities Sync="TRUE">None</AllowedMensurationCapabilities>
<AvailableMensurationCapabilities Sync="TRUE">None,Basic,Base-Top Height,Top-Top Shadow Height,Base-Top Shadow Height,3D</AvailableMensurationCapabilities>
<ClipToBoundary Sync="TRUE">0</ClipToBoundary>
<FootprintMayContainNoData Sync="TRUE">-1</FootprintMayContainNoData>
<CellSizeTolerance Sync="TRUE">0,8</CellSizeTolerance>
<MinimumPixelContribution Sync="TRUE">1</MinimumPixelContribution>
<AvailableMosaicMethods Sync="TRUE">NorthWest,Center,LockRaster,ByAttribute,Nadir,Viewpoint,Seamline,None</AvailableMosaicMethods>
<AvailableCompressionMethods Sync="TRUE">None,JPEG,LZ77,LERC</AvailableCompressionMethods>
<AvailableItemMetadataLevels Sync="TRUE">None,Basic,Full</AvailableItemMetadataLevels>
<BandDefinitionKeyword Sync="TRUE">NaturalColorRGBI</BandDefinitionKeyword>
<AllowedFields Sync="TRUE">Name,MinPS,MaxPS,LowPS,HighPS,Tag,GroupName,ProductName,CenterX,CenterY,ZOrder,Shape_Length,Shape_Area,Thumbnail</AllowedFields>
<MaxCellSize Sync="TRUE">21870</MaxCellSize>
<LowCellSize Sync="TRUE">0,199999999999967</LowCellSize>
<HighCellSize Sync="TRUE">437,4</HighCellSize>
<ClipToFootprint Sync="TRUE">-1</ClipToFootprint>
</Properties>
<Functions Sync="TRUE">
<Function Description="Performs on-the-fly mosaic on a raster catalog." Name="Mosaic Function"/>
</Functions>
</RasterProperties>
</DataProperties>
<SyncDate>20220819</SyncDate>
<SyncTime>17153400</SyncTime>
<ModDate>20220819</ModDate>
<ModTime>17153400</ModTime>
<scaleRange>
<minScale>150000000</minScale>
<maxScale>5000</maxScale>
</scaleRange>
<ArcGISProfile>ItemDescription</ArcGISProfile>
</Esri>
<dataIdInfo>
<envirDesc Sync="TRUE"> Version 6.2 (Build 9200) ; Esri ArcGIS 10.5.1.7333</envirDesc>
<dataLang>
<languageCode Sync="TRUE" value="spa"/>
<countryCode Sync="TRUE" value="COL"/>
</dataLang>
<idCitation>
<resTitle Sync="TRUE">municipioscundinamarcaurbano</resTitle>
<presForm>
<PresFormCd Sync="TRUE" value="005"/>
</presForm>
</idCitation>
<spatRpType>
<SpatRepTypCd Sync="TRUE" value="002"/>
</spatRpType>
<dataExt>
<geoEle>
<GeoBndBox esriExtentType="search">
<exTypeCode Sync="TRUE">1</exTypeCode>
<westBL Sync="TRUE">-74.368966</westBL>
<eastBL Sync="TRUE">-73.863406</eastBL>
<northBL Sync="TRUE">5.041707</northBL>
<southBL Sync="TRUE">4.251616</southBL>
</GeoBndBox>
</geoEle>
</dataExt>
<idPurp>Mosaic Dataset del &amp;aacute;rea urbana de 22 municipios colindantes con Bogot&amp;aacute; D.C., de muy alta resoluci&amp;oacute;n espacial que sirve como insumo para la generaci&amp;oacute;n de cartograf&amp;iacute;a b&amp;aacute;sica, adem&amp;aacute;s de insumo de referencia para estudios tem&amp;aacute;ticos, como por ejemplo procesos catastrales, forestales, ambientales, entre otros.</idPurp>
<idAbs>Mosaico del área urbana con un GSD de 20cm de los municipios de Cajicá, Chía, Chipaque, Choachí, Cota, El Rosal, Facatativá, Funza, Gachancipá, Gutiérrez, La Calera, Madrid, Mosquera, Pasca, Soacha, Sopo, Tenjo, Tocancipá, Ubaque, Une y Zipaquirá. El insumo de las ortoimágenes permite realizar estudios para cartografía 1:2.000, de acuerdo con la resolución 1392 - 2016 del IGAC. Su resolución radiométrica es de 8bit y su resolución espectral es de 4 bandas, contando con las bandas del azul, verde, roja e infrarroja cercana (RGB-NIR). Las imágenes insumo empleadas para su generación fueron tomadas con un sensor aerotransportado de gran formato en el año 2020. Presentan 0% de cobertura nubosa. El área de cubrimiento es de 34.090 hectáreas aproximadamente. El contacto directo para acceder a los datos es a través de la Gerencia Comercial y de Atención al Usuario de la UAECD.</idAbs>
<idCredit>Contrato 235-2018 Unidad Administrativa Especial de Catastro Distrital — UAECD</idCredit>
<searchKeys>
<keyword>Ortofotomosaico</keyword>
<keyword>Cajicá</keyword>
<keyword>Chía</keyword>
<keyword>Chipaque</keyword>
<keyword>Choachí</keyword>
<keyword>Cota</keyword>
<keyword>El Rosal</keyword>
<keyword>Facatativá</keyword>
<keyword>Funza</keyword>
<keyword>Gachancipá</keyword>
<keyword>Gutiérrez</keyword>
<keyword>La Calera</keyword>
<keyword>Madrid</keyword>
<keyword>Mosquera</keyword>
<keyword>Pasca</keyword>
<keyword>Soacha</keyword>
<keyword>Sopo</keyword>
<keyword>Tenjo</keyword>
<keyword>Tocancipá</keyword>
<keyword>Ubaque</keyword>
<keyword>Une</keyword>
<keyword>Zipaquirá</keyword>
<keyword>Urbano</keyword>
<keyword>Ortoimagen</keyword>
<keyword>Ortorrectificada</keyword>
<keyword>Mosaico</keyword>
<keyword>Municipios Vecinos.</keyword>
</searchKeys>
<resConst>
<Consts>
<useLimit>CC-BY NC ND 4.0</useLimit>
</Consts>
</resConst>
</dataIdInfo>
<mdLang>
<languageCode Sync="TRUE" value="spa"/>
<countryCode Sync="TRUE" value="COL"/>
</mdLang>
<refSysInfo>
<RefSystem>
<refSysID>
<identCode Sync="TRUE" code="3116"/>
<idCodeSpace Sync="TRUE">EPSG</idCodeSpace>
<idVersion Sync="TRUE">8.6(9.2.0)</idVersion>
</refSysID>
</RefSystem>
</refSysInfo>
<spatRepInfo>
<Georect>
<cellGeo>
<CellGeoCd Sync="TRUE" value="002"/>
</cellGeo>
<numDims Sync="TRUE">2</numDims>
<tranParaAv Sync="TRUE">1</tranParaAv>
<chkPtAv Sync="TRUE">0</chkPtAv>
<cornerPts>
<pos Sync="TRUE">967679.540875 961901.614183</pos>
</cornerPts>
<cornerPts>
<pos Sync="TRUE">967679.540875 1049265.014183</pos>
</cornerPts>
<cornerPts>
<pos Sync="TRUE">1023742.140875 1049265.014183</pos>
</cornerPts>
<cornerPts>
<pos Sync="TRUE">1023742.140875 961901.614183</pos>
</cornerPts>
<centerPt>
<pos Sync="TRUE">995710.840875 1005583.314183</pos>
</centerPt>
<axisDimension type="002">
<dimSize Sync="TRUE">280313</dimSize>
<dimResol>
<value Sync="TRUE" uom="m">0.200000</value>
</dimResol>
</axisDimension>
<axisDimension type="001">
<dimSize Sync="TRUE">436817</dimSize>
<dimResol>
<value Sync="TRUE" uom="m">0.200000</value>
</dimResol>
</axisDimension>
<ptInPixel>
<PixOrientCd Sync="TRUE" value="001"/>
</ptInPixel>
</Georect>
</spatRepInfo>
<contInfo>
<ImgDesc>
<contentTyp>
<ContentTypCd Sync="TRUE" value="001"/>
</contentTyp>
<covDim>
<Band>
<dimDescrp Sync="TRUE">Red</dimDescrp>
<maxVal Sync="TRUE">255.000000</maxVal>
<minVal Sync="TRUE">0.000000</minVal>
<bitsPerVal Sync="TRUE">8</bitsPerVal>
<valUnit>
<UOM type="length"/>
</valUnit>
</Band>
<Band>
<dimDescrp Sync="TRUE">Green</dimDescrp>
<maxVal Sync="TRUE">255.000000</maxVal>
<minVal Sync="TRUE">0.000000</minVal>
<bitsPerVal Sync="TRUE">8</bitsPerVal>
<valUnit>
<UOM type="length"/>
</valUnit>
</Band>
<Band>
<dimDescrp Sync="TRUE">Blue</dimDescrp>
<maxVal Sync="TRUE">255.000000</maxVal>
<minVal Sync="TRUE">0.000000</minVal>
<bitsPerVal Sync="TRUE">8</bitsPerVal>
<valUnit>
<UOM type="length"/>
</valUnit>
</Band>
<Band>
<dimDescrp Sync="TRUE">Infrared</dimDescrp>
<maxVal Sync="TRUE">255.000000</maxVal>
<minVal Sync="TRUE">0.000000</minVal>
<bitsPerVal Sync="TRUE">8</bitsPerVal>
<valUnit>
<UOM type="length"/>
</valUnit>
</Band>
</covDim>
</ImgDesc>
</contInfo>
<mdDateSt Sync="TRUE">20220819</mdDateSt>
<mdHrLv>
<ScopeCd value="005"/>
</mdHrLv>
</metadata>
